BEGIN:VCALENDAR
VERSION:2.0
PRODID:-//CiviCRM//NONSGML CiviEvent iCal//EN
X-WR-TIMEZONE:Australia/Sydney
METHOD:PUBLISH
BEGIN:VTIMEZONE
TZID:Australia/Sydney
BEGIN:DAYLIGHT
TZOFFSETFROM:+1100
TZOFFSETTO:+1100
TZNAME:AEDT
DTSTART:20270130T100000
END:DAYLIGHT
END:VTIMEZONE
BEGIN:VEVENT
UID:CiviCRM_EventID_1_00868993a39360da57229448cacfe21d@base.barrett.com.au
SUMMARY:Our Voice\, Our Future: A Community Forum at the H
 all
X-ALT-DESC;FMTTYPE=text/html:<!DOCTYPE HTML PUBLIC
  "-//W3C//DTD HTML 3.2//EN"><html><body><p data-pa
 th-to-node="5">For too long\, politics has felt li
 ke something that happens <i data-index-in-node="7
 4" data-path-to-node="5">to</i> us\, rather than <
 i data-index-in-node="93" data-path-to-node="5">wi
 th</i> us. It’s time to change that.</p>\n \n <p d
 ata-path-to-node="6">We are gathering at the histo
 ric Town Hall to discuss the issues that actually 
 matter to our community—from local infrastructure 
 and land use to supporting our regional services. 
 This event is designed for maximum listening:</p>\
 n \n <ul data-path-to-node="7">\n 	<li>\n 	<p data
 -path-to-node="7\,0\,0"><b data-index-in-node="0" 
 data-path-to-node="7\,0\,0">The "Our Future" Board
 :</b> Arrive early to add your priorities to our c
 ommunity canvas.</p>\n 	</li>\n 	<li>\n 	<p data-p
 ath-to-node="7\,1\,0"><b data-index-in-node="0" da
 ta-path-to-node="7\,1\,0">Direct Q&A:</b> No scree
 ned questions\, no talking points—just honest answ
 ers.</p>\n 	</li>\n 	<li>\n 	<p data-path-to-node=
 "7\,2\,0"><b data-index-in-node="0" data-path-to-n
 ode="7\,2\,0">Local Vision:</b> Hear the candidate
 ’s independent roadmap for our district.</p>\n 	</
 li>\n </ul>\n \n <p data-path-to-node="8">We belie
 ve in a representative who shows up and speaks up.
  Let’s protect our heritage while building a smart
 er future together.</p>\n \n <ul data-path-to-node
 ="9">\n 	<li>\n 	<p data-path-to-node="9\,0\,0"><b
  data-index-in-node="0" data-path-to-node="9\,0\,0
 ">When:</b> Friday\, 6:00 PM</p>\n 	</li>\n 	<li>\
 n 	<p data-path-to-node="9\,1\,0"><b data-index-in
 -node="0" data-path-to-node="9\,1\,0">Where:</b> T
 he Old Colonial Hall\, Main St.</p>\n 	</li>\n 	<l
 i>\n 	<p data-path-to-node="9\,1\,0"><b data-index
 -in-node="0" data-path-to-node="9\,2\,0">Cost:</b>
  Free (RSVP for catering purposes)</p>\n 	</li>\n 
 </ul></body></html>
DESCRIPTION:For too long\, politics has felt like something th
 at happens to us\, rather than with us. It’s time 
 to change that.\n \n \n \n We are gathering at the
  historic Town Hall to discuss the issues that act
 ually matter to our community—from local infrastru
 cture and land use to supporting our regional serv
 ices. This event is designed for maximum listening
 :\n \n \n \n \n 	\n 	The "Our Future" Board: Arriv
 e early to add your priorities to our community ca
 nvas.\n \n \n 	\n 	\n 	Direct Q&A: No screened que
 stions\, no talking points—just honest answers.\n 
 \n \n 	\n 	\n 	Local Vision: Hear the candidate’s 
 independent roadmap for our district.\n \n \n 	\n 
 \n \n We believe in a representative who shows up 
 and speaks up. Let’s protect our heritage while bu
 ilding a smarter future together.\n \n \n \n \n 	\
 n 	When: Friday\, 6:00 PM\n \n \n 	\n 	\n 	Where: 
 The Old Colonial Hall\, Main St.\n \n \n 	\n 	\n 	
 Cost: Free (RSVP for catering purposes)\n \n \n 	\
 n 
CATEGORIES:Workshop
CALSCALE:GREGORIAN
DTSTAMP;TZID=Australia/Sydney:20270130T100000
DTSTART;TZID=Australia/Sydney:20270130T100000
DTEND;TZID=Australia/Sydney:20270130T110000
URL:https://base.barrett.com.au/civicrm/event/info/?reset=1&id=1
END:VEVENT
END:VCALENDAR
